BEGIN:VCALENDAR
VERSION:2.0
PRODID:-//Circolo Chigi - ECPv6.3.3//NONSGML v1.0//EN
CALSCALE:GREGORIAN
METHOD:PUBLISH
X-ORIGINAL-URL:https://circolochigi.it
X-WR-CALDESC:Eventi per Circolo Chigi
REFRESH-INTERVAL;VALUE=DURATION:PT1H
X-Robots-Tag:noindex
X-PUBLISHED-TTL:PT1H
BEGIN:VTIMEZONE
TZID:UTC
BEGIN:STANDARD
TZOFFSETFROM:+0000
TZOFFSETTO:+0000
TZNAME:UTC
DTSTART:20220101T000000
END:STANDARD
END:VTIMEZONE
BEGIN:VEVENT
DTSTART;TZID=UTC:20221231T080000
DTEND;TZID=UTC:20231231T170000
DTSTAMP:20260422T020531
CREATED:20230105T093914Z
LAST-MODIFIED:20230105T093914Z
UID:12070-1672473600-1704042000@circolochigi.it
SUMMARY:Presentazione Christmas Card Brancaccio
DESCRIPTION: 
URL:https://circolochigi.it/evento/presentazione-christmas-card-brancaccio/
CATEGORIES:Teatri
END:VEVENT
BEGIN:VEVENT
DTSTART;TZID=UTC:20221231T080000
DTEND;TZID=UTC:20231231T170000
DTSTAMP:20260422T020531
CREATED:20230105T094115Z
LAST-MODIFIED:20230105T094115Z
UID:12074-1672473600-1704042000@circolochigi.it
SUMMARY:Presentazione Christmas Card Sala Umberto
DESCRIPTION: 
URL:https://circolochigi.it/evento/presentazione-christmas-card-sala-umberto/
CATEGORIES:Teatri
END:VEVENT
BEGIN:VEVENT
DTSTART;TZID=UTC:20230416T080000
DTEND;TZID=UTC:20231231T170000
DTSTAMP:20260422T020531
CREATED:20230517T224858Z
LAST-MODIFIED:20230517T224858Z
UID:13038-1681632000-1704042000@circolochigi.it
SUMMARY:Teatro Quirino- campagna abbonamenti
DESCRIPTION:
URL:https://circolochigi.it/evento/teatro-quirino-campagna-abbonamenti/
CATEGORIES:Teatri
END:VEVENT
BEGIN:VEVENT
DTSTART;TZID=UTC:20231018T080000
DTEND;TZID=UTC:20231212T170000
DTSTAMP:20260422T020531
CREATED:20230930T211817Z
LAST-MODIFIED:20230930T211817Z
UID:14077-1697616000-1702400400@circolochigi.it
SUMMARY:Presentazione CABARET the Musical Brancaccio
DESCRIPTION:
URL:https://circolochigi.it/evento/presentazione-cabaret-the-musical-brancaccio/
CATEGORIES:Teatri
END:VEVENT
BEGIN:VEVENT
DTSTART;TZID=UTC:20231123T080000
DTEND;TZID=UTC:20231210T170000
DTSTAMP:20260422T020531
CREATED:20231116T074043Z
LAST-MODIFIED:20231116T074043Z
UID:14478-1700726400-1702227600@circolochigi.it
SUMMARY:Teatro Manzoni - Fino Alle Stelle
DESCRIPTION:
URL:https://circolochigi.it/evento/teatro-manzoni-fino-alle-stelle/
CATEGORIES:Teatri
END:VEVENT
BEGIN:VEVENT
DTSTART;TZID=UTC:20231129T080000
DTEND;TZID=UTC:20231210T170000
DTSTAMP:20260422T020531
CREATED:20231116T073658Z
LAST-MODIFIED:20231116T073658Z
UID:14475-1701244800-1702227600@circolochigi.it
SUMMARY:Presentazione CHICAGO il Musical
DESCRIPTION:
URL:https://circolochigi.it/evento/presentazione-chicago-il-musical/
CATEGORIES:Teatri
END:VEVENT
BEGIN:VEVENT
DTSTART;TZID=UTC:20231205T080000
DTEND;TZID=UTC:20231210T170000
DTSTAMP:20260422T020531
CREATED:20231126T214904Z
LAST-MODIFIED:20231126T214904Z
UID:14587-1701763200-1702227600@circolochigi.it
SUMMARY:Teatro Quirino - Il marito invisibile - Dal 5 al 10 Dic.
DESCRIPTION:
URL:https://circolochigi.it/evento/teatro-quirino-il-marito-invisibile-dal-5-al-10-dic/
CATEGORIES:Teatri
END:VEVENT
BEGIN:VEVENT
DTSTART;TZID=UTC:20231205T080000
DTEND;TZID=UTC:20231223T170000
DTSTAMP:20260422T020531
CREATED:20230919T140748Z
LAST-MODIFIED:20230919T140748Z
UID:13906-1701763200-1703350800@circolochigi.it
SUMMARY:Fra - San Francesco presentazione Cral
DESCRIPTION:
URL:https://circolochigi.it/evento/fra-san-francesco-presentazione-cral/
CATEGORIES:Teatri
END:VEVENT
BEGIN:VEVENT
DTSTART;TZID=UTC:20231206T080000
DTEND;TZID=UTC:20231217T170000
DTSTAMP:20260422T020531
CREATED:20231126T214440Z
LAST-MODIFIED:20231126T214440Z
UID:14578-1701849600-1702832400@circolochigi.it
SUMMARY:Ambra Jovinelli - IL DELITTO DI VIA DELL’ORSINA - Dal 6 al 17 Dic.
DESCRIPTION:
URL:https://circolochigi.it/evento/ambra-jovinelli-il-delitto-di-via-dellorsina-dal-6-al-17-dic/
CATEGORIES:Teatri
END:VEVENT
BEGIN:VEVENT
DTSTART;TZID=UTC:20231206T080000
DTEND;TZID=UTC:20231223T170000
DTSTAMP:20260422T020531
CREATED:20231113T201527Z
LAST-MODIFIED:20231113T201527Z
UID:14453-1701849600-1703350800@circolochigi.it
SUMMARY:Teatro Parioli_ - A CHE SERVONO QUESTI QUATTRINI - Dal 6 al 23 Dic
DESCRIPTION:
URL:https://circolochigi.it/evento/teatro-parioli_-a-che-servono-questi-quattrini-dal-6-al-23-dic/
CATEGORIES:Teatri
END:VEVENT
END:VCALENDAR