BEGIN:VCALENDAR
VERSION:2.0
PRODID:-//Circolo Chigi - ECPv6.3.3//NONSGML v1.0//EN
CALSCALE:GREGORIAN
METHOD:PUBLISH
X-ORIGINAL-URL:https://circolochigi.it
X-WR-CALDESC:Eventi per Circolo Chigi
REFRESH-INTERVAL;VALUE=DURATION:PT1H
X-Robots-Tag:noindex
X-PUBLISHED-TTL:PT1H
BEGIN:VTIMEZONE
TZID:UTC
BEGIN:STANDARD
TZOFFSETFROM:+0000
TZOFFSETTO:+0000
TZNAME:UTC
DTSTART:20220101T000000
END:STANDARD
END:VTIMEZONE
BEGIN:VEVENT
DTSTART;TZID=UTC:20221231T080000
DTEND;TZID=UTC:20231231T170000
DTSTAMP:20260422T020634
CREATED:20230105T093914Z
LAST-MODIFIED:20230105T093914Z
UID:12070-1672473600-1704042000@circolochigi.it
SUMMARY:Presentazione Christmas Card Brancaccio
DESCRIPTION: 
URL:https://circolochigi.it/evento/presentazione-christmas-card-brancaccio/
CATEGORIES:Teatri
END:VEVENT
BEGIN:VEVENT
DTSTART;TZID=UTC:20221231T080000
DTEND;TZID=UTC:20231231T170000
DTSTAMP:20260422T020634
CREATED:20230105T094115Z
LAST-MODIFIED:20230105T094115Z
UID:12074-1672473600-1704042000@circolochigi.it
SUMMARY:Presentazione Christmas Card Sala Umberto
DESCRIPTION: 
URL:https://circolochigi.it/evento/presentazione-christmas-card-sala-umberto/
CATEGORIES:Teatri
END:VEVENT
BEGIN:VEVENT
DTSTART;TZID=UTC:20230416T080000
DTEND;TZID=UTC:20231231T170000
DTSTAMP:20260422T020634
CREATED:20230517T224858Z
LAST-MODIFIED:20230517T224858Z
UID:13038-1681632000-1704042000@circolochigi.it
SUMMARY:Teatro Quirino- campagna abbonamenti
DESCRIPTION:
URL:https://circolochigi.it/evento/teatro-quirino-campagna-abbonamenti/
CATEGORIES:Teatri
END:VEVENT
BEGIN:VEVENT
DTSTART;TZID=UTC:20231215T080000
DTEND;TZID=UTC:20240107T170000
DTSTAMP:20260422T020634
CREATED:20230930T202409Z
LAST-MODIFIED:20230930T202409Z
UID:14035-1702627200-1704646800@circolochigi.it
SUMMARY:Presentazione RAPUNZEL il musical Brancaccio
DESCRIPTION:
URL:https://circolochigi.it/evento/presentazione-rapunzel-il-musical-brancaccio/
CATEGORIES:Teatri
END:VEVENT
BEGIN:VEVENT
DTSTART;TZID=UTC:20231215T080000
DTEND;TZID=UTC:20240107T170000
DTSTAMP:20260422T020634
CREATED:20231116T073520Z
LAST-MODIFIED:20231116T073520Z
UID:14472-1702627200-1704646800@circolochigi.it
SUMMARY:Presentazione RAPUNZEL il musical
DESCRIPTION:
URL:https://circolochigi.it/evento/presentazione-rapunzel-il-musical/
CATEGORIES:Teatri
END:VEVENT
BEGIN:VEVENT
DTSTART;TZID=UTC:20231215T080000
DTEND;TZID=UTC:20240107T170000
DTSTAMP:20260422T020634
CREATED:20231121T205848Z
LAST-MODIFIED:20231121T205848Z
UID:14488-1702627200-1704646800@circolochigi.it
SUMMARY:TEATRO BRANCACCIO -RAPUNZEL
DESCRIPTION:
URL:https://circolochigi.it/evento/teatro-brancaccio-rapunzel/
CATEGORIES:Teatri
END:VEVENT
END:VCALENDAR