BEGIN:VCALENDAR
VERSION:2.0
PRODID:-//Circolo Chigi - ECPv6.3.3//NONSGML v1.0//EN
CALSCALE:GREGORIAN
METHOD:PUBLISH
X-ORIGINAL-URL:https://circolochigi.it
X-WR-CALDESC:Eventi per Circolo Chigi
REFRESH-INTERVAL;VALUE=DURATION:PT1H
X-Robots-Tag:noindex
X-PUBLISHED-TTL:PT1H
BEGIN:VTIMEZONE
TZID:UTC
BEGIN:STANDARD
TZOFFSETFROM:+0000
TZOFFSETTO:+0000
TZNAME:UTC
DTSTART:20240101T000000
END:STANDARD
END:VTIMEZONE
BEGIN:VEVENT
DTSTART;TZID=UTC:20240118T080000
DTEND;TZID=UTC:20240211T170000
DTSTAMP:20260419T120100
CREATED:20240116T215712Z
LAST-MODIFIED:20240116T215712Z
UID:14733-1705564800-1707670800@circolochigi.it
SUMMARY:TEATRO 7 OFF Ago Bianca uno e Basta di Michele La Ginestra
DESCRIPTION:
URL:https://circolochigi.it/evento/teatro-7-off-ago-bianca-uno-e-basta-di-michele-la-ginestra/
CATEGORIES:Teatri
END:VEVENT
BEGIN:VEVENT
DTSTART;TZID=UTC:20240124T080000
DTEND;TZID=UTC:20240204T170000
DTSTAMP:20260419T120100
CREATED:20240126T025518Z
LAST-MODIFIED:20240126T025518Z
UID:14776-1706083200-1707066000@circolochigi.it
SUMMARY:STUPIDA SHOW! Dal 24 Gennaio al 4 Febbraio
DESCRIPTION:
URL:https://circolochigi.it/evento/stupida-show-dal-24-gennaio-al-4-febbraio/
CATEGORIES:Teatri
END:VEVENT
BEGIN:VEVENT
DTSTART;TZID=UTC:20240130T080000
DTEND;TZID=UTC:20240201T170000
DTSTAMP:20260419T120100
CREATED:20240129T185908Z
LAST-MODIFIED:20240129T185908Z
UID:15340-1706601600-1706806800@circolochigi.it
SUMMARY:Teatro Olimpico- PIPPI CALZELUNGHE-dal 30 gen. al 1 feb.
DESCRIPTION:
URL:https://circolochigi.it/evento/teatro-olimpico-pippi-calzelunghe-dal-30-gen-al-1-feb/
CATEGORIES:Teatri
END:VEVENT
BEGIN:VEVENT
DTSTART;TZID=UTC:20240130T080000
DTEND;TZID=UTC:20240204T170000
DTSTAMP:20260419T120100
CREATED:20240117T145633Z
LAST-MODIFIED:20240117T145633Z
UID:14761-1706601600-1707066000@circolochigi.it
SUMMARY:Teatro Quirino - Giorgito Pasotti - Dal 30 Gennaio al 4 Febbraio
DESCRIPTION:
URL:https://circolochigi.it/evento/teatro-quirino-giorgito-pasotti-dal-30-gennaio-al-4-febbraio/
CATEGORIES:Teatri
END:VEVENT
BEGIN:VEVENT
DTSTART;TZID=UTC:20240130T080000
DTEND;TZID=UTC:20240211T170000
DTSTAMP:20260419T120100
CREATED:20230930T210827Z
LAST-MODIFIED:20230930T210827Z
UID:14064-1706601600-1707670800@circolochigi.it
SUMMARY:Presentazione VIRGINIA RAFFAELE in Samusà Brancaccio
DESCRIPTION:
URL:https://circolochigi.it/evento/presentazione-virginia-raffaele-in-samusa-brancaccio/
CATEGORIES:Teatri
END:VEVENT
BEGIN:VEVENT
DTSTART;TZID=UTC:20240130T080000
DTEND;TZID=UTC:20240224T170000
DTSTAMP:20260419T120100
CREATED:20240129T184258Z
LAST-MODIFIED:20240129T184441Z
UID:15319-1706601600-1708794000@circolochigi.it
SUMMARY:Teatro 7- Cappello di Carta - Dal 30 gen al 24 feb.
DESCRIPTION:
URL:https://circolochigi.it/evento/teatro-7-cappello-di-carta-dal-30-gen-al-24-feb/
CATEGORIES:Teatri
END:VEVENT
END:VCALENDAR