BEGIN:VCALENDAR
VERSION:2.0
PRODID:-//Circolo Chigi - ECPv6.3.3//NONSGML v1.0//EN
CALSCALE:GREGORIAN
METHOD:PUBLISH
X-ORIGINAL-URL:https://circolochigi.it
X-WR-CALDESC:Eventi per Circolo Chigi
REFRESH-INTERVAL;VALUE=DURATION:PT1H
X-Robots-Tag:noindex
X-PUBLISHED-TTL:PT1H
BEGIN:VTIMEZONE
TZID:UTC
BEGIN:STANDARD
TZOFFSETFROM:+0000
TZOFFSETTO:+0000
TZNAME:UTC
DTSTART:20230101T000000
END:STANDARD
END:VTIMEZONE
BEGIN:VEVENT
DTSTART;TZID=UTC:20231215T080000
DTEND;TZID=UTC:20240107T170000
DTSTAMP:20260422T021735
CREATED:20230930T202409Z
LAST-MODIFIED:20230930T202409Z
UID:14035-1702627200-1704646800@circolochigi.it
SUMMARY:Presentazione RAPUNZEL il musical Brancaccio
DESCRIPTION:
URL:https://circolochigi.it/evento/presentazione-rapunzel-il-musical-brancaccio/
CATEGORIES:Teatri
END:VEVENT
BEGIN:VEVENT
DTSTART;TZID=UTC:20231215T080000
DTEND;TZID=UTC:20240107T170000
DTSTAMP:20260422T021735
CREATED:20231116T073520Z
LAST-MODIFIED:20231116T073520Z
UID:14472-1702627200-1704646800@circolochigi.it
SUMMARY:Presentazione RAPUNZEL il musical
DESCRIPTION:
URL:https://circolochigi.it/evento/presentazione-rapunzel-il-musical/
CATEGORIES:Teatri
END:VEVENT
BEGIN:VEVENT
DTSTART;TZID=UTC:20231215T080000
DTEND;TZID=UTC:20240107T170000
DTSTAMP:20260422T021735
CREATED:20231121T205848Z
LAST-MODIFIED:20231121T205848Z
UID:14488-1702627200-1704646800@circolochigi.it
SUMMARY:TEATRO BRANCACCIO -RAPUNZEL
DESCRIPTION:
URL:https://circolochigi.it/evento/teatro-brancaccio-rapunzel/
CATEGORIES:Teatri
END:VEVENT
BEGIN:VEVENT
DTSTART;TZID=UTC:20231226T080000
DTEND;TZID=UTC:20240107T170000
DTSTAMP:20260422T021735
CREATED:20231126T214226Z
LAST-MODIFIED:20231126T214226Z
UID:14575-1703577600-1704646800@circolochigi.it
SUMMARY:Ambra Jovinelli MINE VAGANTI - Dal 26 Dic. al 7 Gen. 24
DESCRIPTION:
URL:https://circolochigi.it/evento/ambra-jovinelli-mine-vaganti-dal-26-dic-al-7-gen-24/
CATEGORIES:Teatri
END:VEVENT
BEGIN:VEVENT
DTSTART;TZID=UTC:20231226T080000
DTEND;TZID=UTC:20240121T170000
DTSTAMP:20260422T021735
CREATED:20230919T140911Z
LAST-MODIFIED:20230919T140911Z
UID:13909-1703577600-1705856400@circolochigi.it
SUMMARY:Il vedovo allegro presentazione Cral
DESCRIPTION:
URL:https://circolochigi.it/evento/il-vedovo-allegro-presentazione-cral/
CATEGORIES:Teatri
END:VEVENT
BEGIN:VEVENT
DTSTART;TZID=UTC:20240104T080000
DTEND;TZID=UTC:20240128T170000
DTSTAMP:20260422T021735
CREATED:20240116T221805Z
LAST-MODIFIED:20240116T221805Z
UID:14754-1704355200-1706461200@circolochigi.it
SUMMARY:Teatro Manzoni - Dal 4 al 28 Gennaio
DESCRIPTION:
URL:https://circolochigi.it/evento/teatro-manzoni-dal-4-al-28-gennaio/
CATEGORIES:Teatri
END:VEVENT
BEGIN:VEVENT
DTSTART;TZID=UTC:20240111T080000
DTEND;TZID=UTC:20240114T170000
DTSTAMP:20260422T021735
CREATED:20230930T205401Z
LAST-MODIFIED:20230930T205401Z
UID:14055-1704960000-1705251600@circolochigi.it
SUMMARY:Presentazione ELVIS il musical Brancaccio
DESCRIPTION:
URL:https://circolochigi.it/evento/presentazione-elvis-il-musical-brancaccio/
CATEGORIES:Teatri
END:VEVENT
BEGIN:VEVENT
DTSTART;TZID=UTC:20240116T080000
DTEND;TZID=UTC:20240118T170000
DTSTAMP:20260422T021735
CREATED:20240126T025148Z
LAST-MODIFIED:20240126T025148Z
UID:14770-1705392000-1705597200@circolochigi.it
SUMMARY:teatro7 - Massimo Venturiello - Dal 16 al 28 Gennaio
DESCRIPTION:
URL:https://circolochigi.it/evento/teatro7-massimo-venturiello-dal-16-al-28-gennaio-2/
CATEGORIES:Teatri
END:VEVENT
BEGIN:VEVENT
DTSTART;TZID=UTC:20240116T080000
DTEND;TZID=UTC:20240121T170000
DTSTAMP:20260422T021735
CREATED:20230930T202833Z
LAST-MODIFIED:20230930T202833Z
UID:14045-1705392000-1705856400@circolochigi.it
SUMMARY:Presentazione PETER PAN il Musical Teatro Brancaccio
DESCRIPTION:
URL:https://circolochigi.it/evento/presentazione-peter-pan-il-musical-teatro-brancaccio/
CATEGORIES:Teatri
END:VEVENT
BEGIN:VEVENT
DTSTART;TZID=UTC:20240116T080000
DTEND;TZID=UTC:20240128T170000
DTSTAMP:20260422T021735
CREATED:20240109T193838Z
LAST-MODIFIED:20240109T193838Z
UID:14707-1705392000-1706461200@circolochigi.it
SUMMARY:LA PRIMA INDAGINE DI MONTALBANO - Dal 16 al 28 Gennaio
DESCRIPTION:
URL:https://circolochigi.it/evento/la-prima-indagine-di-montalbano-dal-16-al-28-gennaio/
CATEGORIES:Teatri
END:VEVENT
BEGIN:VEVENT
DTSTART;TZID=UTC:20240116T080000
DTEND;TZID=UTC:20240128T170000
DTSTAMP:20260422T021735
CREATED:20240112T222043Z
LAST-MODIFIED:20240112T222043Z
UID:14714-1705392000-1706461200@circolochigi.it
SUMMARY:teatro7 - Massimo Venturiello Dal 16 al 28 Gennaio
DESCRIPTION:
URL:https://circolochigi.it/evento/teatro7-massimo-venturiello-dal-16-al-28-gennaio/
CATEGORIES:Teatri
END:VEVENT
BEGIN:VEVENT
DTSTART;TZID=UTC:20240116T080000
DTEND;TZID=UTC:20240128T170000
DTSTAMP:20260422T021735
CREATED:20240112T222412Z
LAST-MODIFIED:20240112T222412Z
UID:14717-1705392000-1706461200@circolochigi.it
SUMMARY:Ginghiali - Dal 16 al 28 Gennaio
DESCRIPTION:
URL:https://circolochigi.it/evento/ginghiali-dal-16-al-28-gennaio/
CATEGORIES:Teatri
END:VEVENT
BEGIN:VEVENT
DTSTART;TZID=UTC:20240118T080000
DTEND;TZID=UTC:20240211T170000
DTSTAMP:20260422T021735
CREATED:20240116T215712Z
LAST-MODIFIED:20240116T215712Z
UID:14733-1705564800-1707670800@circolochigi.it
SUMMARY:TEATRO 7 OFF Ago Bianca uno e Basta di Michele La Ginestra
DESCRIPTION:
URL:https://circolochigi.it/evento/teatro-7-off-ago-bianca-uno-e-basta-di-michele-la-ginestra/
CATEGORIES:Teatri
END:VEVENT
BEGIN:VEVENT
DTSTART;TZID=UTC:20240119T080000
DTEND;TZID=UTC:20240121T170000
DTSTAMP:20260422T021735
CREATED:20240116T215316Z
LAST-MODIFIED:20240116T215316Z
UID:14727-1705651200-1705856400@circolochigi.it
SUMMARY:Teatro Olimpico - CENERENTOLA - Dal 19 al 21 gennaio
DESCRIPTION:
URL:https://circolochigi.it/evento/teatro-olimpico-cenerentola-dal-19-al-21-gennaio/
CATEGORIES:Teatri
END:VEVENT
BEGIN:VEVENT
DTSTART;TZID=UTC:20240123T080000
DTEND;TZID=UTC:20240123T170000
DTSTAMP:20260422T021735
CREATED:20240116T220611Z
LAST-MODIFIED:20240116T220611Z
UID:14745-1705996800-1706029200@circolochigi.it
SUMMARY:SalaUmberto - SEGRE come il fiume - 23 Gennaio
DESCRIPTION:
URL:https://circolochigi.it/evento/salaumberto-segre-come-il-fiume-23-gennaio/
CATEGORIES:Teatri
END:VEVENT
BEGIN:VEVENT
DTSTART;TZID=UTC:20240123T080000
DTEND;TZID=UTC:20240128T170000
DTSTAMP:20260422T021735
CREATED:20240116T214950Z
LAST-MODIFIED:20240116T214950Z
UID:14721-1705996800-1706461200@circolochigi.it
SUMMARY:Teatro Quirino Falstaff A Windsor - dal 23 al 28 gennaio
DESCRIPTION:
URL:https://circolochigi.it/evento/teatro-quirino-falstaff-a-windsor-dal-23-al-28-gennaio/
CATEGORIES:Teatri
END:VEVENT
BEGIN:VEVENT
DTSTART;TZID=UTC:20240124T080000
DTEND;TZID=UTC:20240204T170000
DTSTAMP:20260422T021735
CREATED:20240126T025518Z
LAST-MODIFIED:20240126T025518Z
UID:14776-1706083200-1707066000@circolochigi.it
SUMMARY:STUPIDA SHOW! Dal 24 Gennaio al 4 Febbraio
DESCRIPTION:
URL:https://circolochigi.it/evento/stupida-show-dal-24-gennaio-al-4-febbraio/
CATEGORIES:Teatri
END:VEVENT
BEGIN:VEVENT
DTSTART;TZID=UTC:20240128T080000
DTEND;TZID=UTC:20240128T170000
DTSTAMP:20260422T021735
CREATED:20231121T210420Z
LAST-MODIFIED:20231121T210420Z
UID:14497-1706428800-1706461200@circolochigi.it
SUMMARY:Locandina A4 Rassegna 5 concerti- 28 Gennaio
DESCRIPTION:
URL:https://circolochigi.it/evento/locandina-a4-rassegna-5-concerti-28-gennaio/
CATEGORIES:Teatri
END:VEVENT
BEGIN:VEVENT
DTSTART;TZID=UTC:20240130T080000
DTEND;TZID=UTC:20240201T170000
DTSTAMP:20260422T021735
CREATED:20240129T185908Z
LAST-MODIFIED:20240129T185908Z
UID:15340-1706601600-1706806800@circolochigi.it
SUMMARY:Teatro Olimpico- PIPPI CALZELUNGHE-dal 30 gen. al 1 feb.
DESCRIPTION:
URL:https://circolochigi.it/evento/teatro-olimpico-pippi-calzelunghe-dal-30-gen-al-1-feb/
CATEGORIES:Teatri
END:VEVENT
BEGIN:VEVENT
DTSTART;TZID=UTC:20240130T080000
DTEND;TZID=UTC:20240204T170000
DTSTAMP:20260422T021735
CREATED:20240117T145633Z
LAST-MODIFIED:20240117T145633Z
UID:14761-1706601600-1707066000@circolochigi.it
SUMMARY:Teatro Quirino - Giorgito Pasotti - Dal 30 Gennaio al 4 Febbraio
DESCRIPTION:
URL:https://circolochigi.it/evento/teatro-quirino-giorgito-pasotti-dal-30-gennaio-al-4-febbraio/
CATEGORIES:Teatri
END:VEVENT
BEGIN:VEVENT
DTSTART;TZID=UTC:20240130T080000
DTEND;TZID=UTC:20240211T170000
DTSTAMP:20260422T021735
CREATED:20230930T210827Z
LAST-MODIFIED:20230930T210827Z
UID:14064-1706601600-1707670800@circolochigi.it
SUMMARY:Presentazione VIRGINIA RAFFAELE in Samusà Brancaccio
DESCRIPTION:
URL:https://circolochigi.it/evento/presentazione-virginia-raffaele-in-samusa-brancaccio/
CATEGORIES:Teatri
END:VEVENT
BEGIN:VEVENT
DTSTART;TZID=UTC:20240130T080000
DTEND;TZID=UTC:20240211T170000
DTSTAMP:20260422T021735
CREATED:20240205T152827Z
LAST-MODIFIED:20240205T152827Z
UID:15376-1706601600-1707670800@circolochigi.it
SUMMARY:Teatro Olimpico - PIPPI CALZELUNGHE - 30 gen. 11 Feb.
DESCRIPTION:
URL:https://circolochigi.it/evento/teatro-olimpico-pippi-calzelunghe-30-gen-11-feb/
END:VEVENT
BEGIN:VEVENT
DTSTART;TZID=UTC:20240130T080000
DTEND;TZID=UTC:20240224T170000
DTSTAMP:20260422T021735
CREATED:20240129T184258Z
LAST-MODIFIED:20240129T184441Z
UID:15319-1706601600-1708794000@circolochigi.it
SUMMARY:Teatro 7- Cappello di Carta - Dal 30 gen al 24 feb.
DESCRIPTION:
URL:https://circolochigi.it/evento/teatro-7-cappello-di-carta-dal-30-gen-al-24-feb/
CATEGORIES:Teatri
END:VEVENT
BEGIN:VEVENT
DTSTART;TZID=UTC:20240131T080000
DTEND;TZID=UTC:20240211T170000
DTSTAMP:20260422T021735
CREATED:20240129T185029Z
LAST-MODIFIED:20240129T185029Z
UID:15328-1706688000-1707670800@circolochigi.it
SUMMARY:Teatro Parioli Farà Giorno-dal 31.1 al 11.2
DESCRIPTION:
URL:https://circolochigi.it/evento/teatro-parioli-fara-giorno-dal-31-1-al-11-2/
CATEGORIES:Teatri
END:VEVENT
END:VCALENDAR